BEGIN:VCALENDAR
VERSION:2.0
PRODID:-//Site officiel de Nicolas Turquois - ECPv5.8.0//NONSGML v1.0//EN
CALSCALE:GREGORIAN
METHOD:PUBLISH
X-WR-CALNAME:Site officiel de Nicolas Turquois
X-ORIGINAL-URL:https://www.nicolas-turquois.fr
X-WR-CALDESC:évènements pour Site officiel de Nicolas Turquois
BEGIN:VTIMEZONE
TZID:Europe/Paris
BEGIN:DAYLIGHT
TZOFFSETFROM:+0100
TZOFFSETTO:+0200
TZNAME:CEST
DTSTART:20170326T010000
END:DAYLIGHT
BEGIN:STANDARD
TZOFFSETFROM:+0200
TZOFFSETTO:+0100
TZNAME:CET
DTSTART:20171029T010000
END:STANDARD
END:VTIMEZONE
BEGIN:VEVENT
DTSTART;VALUE=DATE:20171213
DTEND;VALUE=DATE:20171214
DTSTAMP:20260423T102748
CREATED:20171213T112848Z
LAST-MODIFIED:20171230T113436Z
UID:530-1513123200-1513209599@www.nicolas-turquois.fr
SUMMARY:Visite de jeunes agriculteurs de la Vienne à l’Assemblée Nationale
DESCRIPTION:Retour sur un agréable moment\, celui de la visite de jeunes agriculteurs de la #Vienne à l’Assemblée Nationale. @JeunesAgri86 pic.twitter.com/fJkbEYNMZe \n— Nicolas Turquois (@enmarche8604) 15 décembre 2017
URL:https://www.nicolas-turquois.fr/evenement/visite-de-jeunes-agriculteurs-de-la-vienne-a-lassemblee-nationale/
CATEGORIES:A l'Assemblée
END:VEVENT
END:VCALENDAR