BEGIN:VCALENDAR
VERSION:2.0
PRODID:-//Site officiel de Nicolas Turquois - ECPv5.8.0//NONSGML v1.0//EN
CALSCALE:GREGORIAN
METHOD:PUBLISH
X-WR-CALNAME:Site officiel de Nicolas Turquois
X-ORIGINAL-URL:https://www.nicolas-turquois.fr
X-WR-CALDESC:évènements pour Site officiel de Nicolas Turquois
BEGIN:VTIMEZONE
TZID:Europe/Paris
BEGIN:DAYLIGHT
TZOFFSETFROM:+0100
TZOFFSETTO:+0200
TZNAME:CEST
DTSTART:20190331T010000
END:DAYLIGHT
BEGIN:STANDARD
TZOFFSETFROM:+0200
TZOFFSETTO:+0100
TZNAME:CET
DTSTART:20191027T010000
END:STANDARD
END:VTIMEZONE
BEGIN:VEVENT
DTSTART;VALUE=DATE:20190909
DTEND;VALUE=DATE:20190910
DTSTAMP:20260423T100745
CREATED:20190909T090910Z
LAST-MODIFIED:20190916T091107Z
UID:4672-1567987200-1568073599@www.nicolas-turquois.fr
SUMMARY:Rencontre à Châtellerault avec les créatrices du logiciel éducatif Magic Eduk
DESCRIPTION:
URL:https://www.nicolas-turquois.fr/evenement/rencontre-a-chatellerault-avec-les-creatrices-du-logiciel-educatif-magic-eduk/
CATEGORIES:En circonscription
END:VEVENT
BEGIN:VEVENT
DTSTART;VALUE=DATE:20190909
DTEND;VALUE=DATE:20190910
DTSTAMP:20260423T100745
CREATED:20190909T091256Z
LAST-MODIFIED:20190916T091441Z
UID:4678-1567987200-1568073599@www.nicolas-turquois.fr
SUMMARY:Echange avec M. Michel Favreau maire de Coussay-les-Bois sur le dossier de la Ferme-Usine
DESCRIPTION:
URL:https://www.nicolas-turquois.fr/evenement/echange-avec-m-michel-favreau-maire-de-coussay-les-bois-sur-le-dossier-de-la-ferme-usine/
CATEGORIES:En circonscription
END:VEVENT
END:VCALENDAR