BEGIN:VCALENDAR
VERSION:2.0
PRODID:-//Site officiel de Nicolas Turquois - ECPv5.8.0//NONSGML v1.0//EN
CALSCALE:GREGORIAN
METHOD:PUBLISH
X-WR-CALNAME:Site officiel de Nicolas Turquois
X-ORIGINAL-URL:https://www.nicolas-turquois.fr
X-WR-CALDESC:évènements pour Site officiel de Nicolas Turquois
BEGIN:VTIMEZONE
TZID:Europe/Paris
BEGIN:DAYLIGHT
TZOFFSETFROM:+0100
TZOFFSETTO:+0200
TZNAME:CEST
DTSTART:20190331T010000
END:DAYLIGHT
BEGIN:STANDARD
TZOFFSETFROM:+0200
TZOFFSETTO:+0100
TZNAME:CET
DTSTART:20191027T010000
END:STANDARD
END:VTIMEZONE
BEGIN:VEVENT
DTSTART;VALUE=DATE:20190912
DTEND;VALUE=DATE:20190913
DTSTAMP:20260419T103554
CREATED:20190912T091753Z
LAST-MODIFIED:20190916T091924Z
UID:4684-1568246400-1568332799@www.nicolas-turquois.fr
SUMMARY:Rencontre avec M. Marc GLITA\, délégué interministériel aux restructurations d’entreprises au sujet des Fonderies du Poitou
DESCRIPTION:
URL:https://www.nicolas-turquois.fr/evenement/rencontre-avec-m-marc-glita-delegue-interministeriel-aux-restructurations-dentreprises-au-sujet-des-fonderies-du-poitou/
CATEGORIES:A l'Assemblée
END:VEVENT
BEGIN:VEVENT
DTSTART;VALUE=DATE:20190912
DTEND;VALUE=DATE:20190913
DTSTAMP:20260419T103554
CREATED:20190912T091934Z
LAST-MODIFIED:20190916T092020Z
UID:4687-1568246400-1568332799@www.nicolas-turquois.fr
SUMMARY:Soirée des acteurs économiques pour les 200 ans de la MANU à Châtellerault
DESCRIPTION:
URL:https://www.nicolas-turquois.fr/evenement/soiree-des-acteurs-economiques-pour-les-200-ans-de-la-manu-a-chatellerault/
CATEGORIES:En circonscription
END:VEVENT
END:VCALENDAR