BEGIN:VCALENDAR
VERSION:2.0
PRODID:-//Site officiel de Nicolas Turquois - ECPv5.8.0//NONSGML v1.0//EN
CALSCALE:GREGORIAN
METHOD:PUBLISH
X-WR-CALNAME:Site officiel de Nicolas Turquois
X-ORIGINAL-URL:https://www.nicolas-turquois.fr
X-WR-CALDESC:évènements pour Site officiel de Nicolas Turquois
BEGIN:VTIMEZONE
TZID:Europe/Paris
BEGIN:DAYLIGHT
TZOFFSETFROM:+0100
TZOFFSETTO:+0200
TZNAME:CEST
DTSTART:20200329T010000
END:DAYLIGHT
BEGIN:STANDARD
TZOFFSETFROM:+0200
TZOFFSETTO:+0100
TZNAME:CET
DTSTART:20201025T010000
END:STANDARD
END:VTIMEZONE
BEGIN:VEVENT
DTSTART;VALUE=DATE:20200223
DTEND;VALUE=DATE:20200224
DTSTAMP:20260423T101021
CREATED:20200223T095122Z
LAST-MODIFIED:20210323T095235Z
UID:5614-1582416000-1582502399@www.nicolas-turquois.fr
SUMMARY:Interview lors de l’émission « Toute l’Info du week-end » sur Europe1 à propos de la réforme des retraite
DESCRIPTION:
URL:https://www.nicolas-turquois.fr/evenement/interview-lors-de-lemission-toute-linfo-du-week-end-sur-europe1-a-propos-de-la-reforme-des-retraite/
CATEGORIES:A l'Assemblée
END:VEVENT
END:VCALENDAR