BEGIN:VCALENDAR
VERSION:2.0
PRODID:-//Site officiel de Nicolas Turquois - ECPv5.8.0//NONSGML v1.0//EN
CALSCALE:GREGORIAN
METHOD:PUBLISH
X-WR-CALNAME:Site officiel de Nicolas Turquois
X-ORIGINAL-URL:https://www.nicolas-turquois.fr
X-WR-CALDESC:évènements pour Site officiel de Nicolas Turquois
BEGIN:VTIMEZONE
TZID:Europe/Paris
BEGIN:DAYLIGHT
TZOFFSETFROM:+0100
TZOFFSETTO:+0200
TZNAME:CEST
DTSTART:20210328T010000
END:DAYLIGHT
BEGIN:STANDARD
TZOFFSETFROM:+0200
TZOFFSETTO:+0100
TZNAME:CET
DTSTART:20211031T010000
END:STANDARD
END:VTIMEZONE
BEGIN:VEVENT
DTSTART;VALUE=DATE:20210904
DTEND;VALUE=DATE:20210905
DTSTAMP:20260423T101343
CREATED:20210904T131933Z
LAST-MODIFIED:20210913T132032Z
UID:5833-1630713600-1630799999@www.nicolas-turquois.fr
SUMMARY:Inauguration de la Maison des Assistantes Maternelles de Roiffé
DESCRIPTION:
URL:https://www.nicolas-turquois.fr/evenement/inauguration-de-la-maison-des-assistantes-maternelles-de-roiffe/
CATEGORIES:En circonscription
END:VEVENT
BEGIN:VEVENT
DTSTART;VALUE=DATE:20210904
DTEND;VALUE=DATE:20210905
DTSTAMP:20260423T101343
CREATED:20210904T132046Z
LAST-MODIFIED:20210913T132117Z
UID:5835-1630713600-1630799999@www.nicolas-turquois.fr
SUMMARY:Inauguration\, après travaux\, de la Maison de l’Acadie à La Chaussée
DESCRIPTION:
URL:https://www.nicolas-turquois.fr/evenement/inauguration-apres-travaux-de-la-maison-de-lacadie-a-la-chaussee/
CATEGORIES:En circonscription
END:VEVENT
BEGIN:VEVENT
DTSTART;VALUE=DATE:20210904
DTEND;VALUE=DATE:20210905
DTSTAMP:20260423T101343
CREATED:20210913T131918Z
LAST-MODIFIED:20210913T131918Z
UID:5831-1630713600-1630799999@www.nicolas-turquois.fr
SUMMARY:Rentrée des associations à Loudun\, Châtellerault\, Naintré\, Saix et Port de Piles
DESCRIPTION:
URL:https://www.nicolas-turquois.fr/evenement/rentree-des-associations-a-loudun-chatellerault-naintre-saix-et-port-de-piles/
CATEGORIES:En circonscription
END:VEVENT
END:VCALENDAR